BEGIN:VCALENDAR
VERSION:2.0
PRODID:-//ChamberMaster//Event Calendar 2.0//EN
METHOD:PUBLISH
X-PUBLISHED-TTL:P3D
REFRESH-INTERVAL:P3D
CALSCALE:GREGORIAN
BEGIN:VEVENT
DTSTART:20260502T130000Z
DTEND:20260502T170000Z
X-MICROSOFT-CDO-ALLDAYEVENT:FALSE
SUMMARY:Casper Mountain Lions Club Pancake Breakfast
DESCRIPTION:Annual Casper Mountain Lions Club fundraiser to help support the Lee McCune Braille Trail. Eyeglass support for those in need. Blind Camp on Casper Mountain. Annual Visually Impaired Ski Day on Casper Mountain. The pancake fundraiser also supports educational scholarships for veterans at Casper College.
X-ALT-DESC;FMTTYPE=text/html:Annual Casper Mountain Lions Club fundraiser to help support the Lee McCune Braille Trail. Eyeglass support for those in need. Blind Camp on Casper Mountain. Annual Visually Impaired Ski Day on Casper Mountain. The pancake fundraiser also supports educational scholarships for veterans at Casper College.
LOCATION:Mills Community Center 401 Wasatch Ave MIlls Wyoming
UID:e.2152.17490
SEQUENCE:3
DTSTAMP:20260419T145336Z
URL:https://integrations.casperwyoming.org/events/details/casper-mountain-lions-club-pancake-breakfast-05-02-2026-17490
END:VEVENT

END:VCALENDAR
