BEGIN:VCALENDAR
VERSION:2.0
PRODID:-//ChamberMaster//Event Calendar 2.0//EN
METHOD:PUBLISH
X-PUBLISHED-TTL:P3D
REFRESH-INTERVAL:P3D
CALSCALE:GREGORIAN
BEGIN:VEVENT
DTSTART:20260521T230000Z
DTEND:20260522T010000Z
X-MICROSOFT-CDO-ALLDAYEVENT:FALSE
SUMMARY:Business After Hours - Hyatt Place Casper
DESCRIPTION:Mix\, mingle and connect at Hyatt Place Casper for Business After Hours!! \n\n\n\nConnect with friends while enjoying mountain views\, food\, beverages\, and see their modern gathering spaces for your next meeting.
X-ALT-DESC;FMTTYPE=text/html:<br />\nMix\, mingle and connect at Hyatt Place Casper for Business After Hours!!&nbsp\;<br />\n<br />\nConnect with friends while enjoying mountain views\, food\, beverages\, and see their modern gathering spaces for your next meeting.&nbsp\;
LOCATION:407 North Walsh Drive
UID:e.2152.16196
SEQUENCE:3
DTSTAMP:20260423T002900Z
URL:https://integrations.casperwyoming.org/events/details/business-after-hours-hyatt-place-casper-16196
END:VEVENT

END:VCALENDAR
