BEGIN:VCALENDAR
VERSION:2.0
PRODID:-//ChamberMaster//Event Calendar 2.0//EN
METHOD:PUBLISH
X-PUBLISHED-TTL:P3D
REFRESH-INTERVAL:P3D
CALSCALE:GREGORIAN
BEGIN:VEVENT
DTSTART:20260425T233000Z
DTEND:20260426T050000Z
X-MICROSOFT-CDO-ALLDAYEVENT:FALSE
SUMMARY:Boots & Bling
DESCRIPTION:Dust off your boots and bring a little shine. Boots & Bling is Wyoming Foundation for Cancer Care's signature spring fundraiser\, and it's shaping up to be a night you won't want to miss. Tickets are limited so don't wait to snag yours!\n\n\n\nSaturday\, April 25\, 2026\n\nDoors open at 5:30 PM\n\nThe Barn by The Five Deuces\n\n7992 Zero Rd\, Casper\, WY\n\n\n\nEnjoy dinner by Heirloom and Native\, drinks by Occasions by Cory\, music\, raffles and auctions\, and a western-glam atmosphere built around community and connection.\n\n\n\nWe'll kick things up a notch with a quick\, easy line dance lesson\, then open up the dance floor for anyone ready to jump in or just cheer from the sidelines. Two left feet welcome... This is a judgment-free dance floor!\n\nEvery ticket helps ease the burden for Wyoming cancer patients by covering everyday essentials like travel\, lodging\, groceries\, housing\, and utilities\, giving them one less thing to worry about while they focus on healing.\n\nDress code: Western glam encouraged\n\n\n\nThink boots\, denim\, bling\, fringe. If your boots weren't made for dancing\, we won't tell.\n\nGood food\, good music\, good cause. Questionable dance moves encouraged.
X-ALT-DESC;FMTTYPE=text/html:<div>Dust off your boots and bring a little shine. Boots &amp\; Bling is Wyoming Foundation for Cancer Care&rsquo\;s signature spring fundraiser\, and it&rsquo\;s shaping up to be a night you won&rsquo\;t want to miss. Tickets are limited so don&#39\;t wait to snag yours!<br />\n<br />\nSaturday\, April 25\, 2026<br />\nDoors open at 5:30 PM<br />\nThe Barn by The Five Deuces<br />\n7992 Zero Rd\, Casper\, WY<br />\n<br />\nEnjoy dinner by Heirloom and Native\, drinks by Occasions by Cory\, music\, raffles and auctions\, and a western-glam atmosphere built around community and connection.<br />\n<br />\nWe&rsquo\;ll kick things up a notch with a quick\, easy line dance lesson\, then open up the dance floor for anyone ready to jump in or just cheer from the sidelines. Two left feet welcome... This is a judgment-free dance floor!<br />\nEvery ticket helps ease the burden for Wyoming cancer patients by covering everyday essentials like travel\, lodging\, groceries\, housing\, and utilities\, giving them one less thing to worry about while they focus on healing.<br />\nDress code: Western glam encouraged<br />\n<br />\nThink boots\, denim\, bling\, fringe. If your boots weren&rsquo\;t made for dancing\, we won&rsquo\;t tell.<br />\nGood food\, good music\, good cause. Questionable dance moves encouraged.&nbsp\;</div>\n
LOCATION:The Barn by The Five Deuces 7992 Zero Rd\, Casper\, WY
UID:e.2152.17408
SEQUENCE:3
DTSTAMP:20260421T132035Z
URL:https://integrations.casperwyoming.org/events/details/boots-bling-17408
END:VEVENT

END:VCALENDAR
